BEGIN:VCALENDAR
VERSION:2.0
PRODID:-//Youthlink - ECPv6.15.20//NONSGML v1.0//EN
CALSCALE:GREGORIAN
METHOD:PUBLISH
X-WR-CALNAME:Youthlink
X-ORIGINAL-URL:https://www.youthlinkmn.org
X-WR-CALDESC:Events for Youthlink
REFRESH-INTERVAL;VALUE=DURATION:PT1H
X-Robots-Tag:noindex
X-PUBLISHED-TTL:PT1H
BEGIN:VTIMEZONE
TZID:America/Chicago
BEGIN:DAYLIGHT
TZOFFSETFROM:-0600
TZOFFSETTO:-0500
TZNAME:CDT
DTSTART:20250309T080000
END:DAYLIGHT
BEGIN:STANDARD
TZOFFSETFROM:-0500
TZOFFSETTO:-0600
TZNAME:CST
DTSTART:20251102T070000
END:STANDARD
BEGIN:DAYLIGHT
TZOFFSETFROM:-0600
TZOFFSETTO:-0500
TZNAME:CDT
DTSTART:20260308T080000
END:DAYLIGHT
BEGIN:STANDARD
TZOFFSETFROM:-0500
TZOFFSETTO:-0600
TZNAME:CST
DTSTART:20261101T070000
END:STANDARD
BEGIN:DAYLIGHT
TZOFFSETFROM:-0600
TZOFFSETTO:-0500
TZNAME:CDT
DTSTART:20270314T080000
END:DAYLIGHT
BEGIN:STANDARD
TZOFFSETFROM:-0500
TZOFFSETTO:-0600
TZNAME:CST
DTSTART:20271107T070000
END:STANDARD
END:VTIMEZONE
BEGIN:VEVENT
DTSTART;TZID=America/Chicago:20260423T120000
DTEND;TZID=America/Chicago:20260423T160000
DTSTAMP:20260423T093913
CREATED:20250623T174944Z
LAST-MODIFIED:20250623T174945Z
UID:15016581-1776945600-1776960000@www.youthlinkmn.org
SUMMARY:Kulture Klub Collaborative: 4TheKulture Podcast & Open Art Studio Time
DESCRIPTION:Each Thursday\, Kulture Klub Collaborative meets to record and produce their 4TheKulture podcast. Open Art Studio time is also available during this time. You can find the studio downstairs of Youthlink’s Youth Opportunity Center. The mission of Kulture Klub Collaborative (KKC) is to provide a safe\, consistent space for youth ages 16-24 experiencing homelessness to freely enjoy access to the arts. At KKC\, we believe that everyone is an artist. We expose\, educate\, and empower youth through quality multidisciplinary art experiences. We use art and creativity as a positive force in their lives for personal growth\, social justice\, actionable compassion\, and community improvement. Join us every week for dynamic artistic activities and healing.
URL:https://www.youthlinkmn.org/event/kulture-klub/2026-04-23/
CATEGORIES:Onsite Partners
ATTACH;FMTTYPE=image/jpeg:https://www.youthlinkmn.org/wp-content/uploads/2025/06/kulture-klub-collaborative-kkc.jpg
END:VEVENT
BEGIN:VEVENT
DTSTART;TZID=America/Chicago:20260430T120000
DTEND;TZID=America/Chicago:20260430T160000
DTSTAMP:20260423T093913
CREATED:20250623T174944Z
LAST-MODIFIED:20250623T174945Z
UID:15016582-1777550400-1777564800@www.youthlinkmn.org
SUMMARY:Kulture Klub Collaborative: 4TheKulture Podcast & Open Art Studio Time
DESCRIPTION:Each Thursday\, Kulture Klub Collaborative meets to record and produce their 4TheKulture podcast. Open Art Studio time is also available during this time. You can find the studio downstairs of Youthlink’s Youth Opportunity Center. The mission of Kulture Klub Collaborative (KKC) is to provide a safe\, consistent space for youth ages 16-24 experiencing homelessness to freely enjoy access to the arts. At KKC\, we believe that everyone is an artist. We expose\, educate\, and empower youth through quality multidisciplinary art experiences. We use art and creativity as a positive force in their lives for personal growth\, social justice\, actionable compassion\, and community improvement. Join us every week for dynamic artistic activities and healing.
URL:https://www.youthlinkmn.org/event/kulture-klub/2026-04-30/
CATEGORIES:Onsite Partners
ATTACH;FMTTYPE=image/jpeg:https://www.youthlinkmn.org/wp-content/uploads/2025/06/kulture-klub-collaborative-kkc.jpg
END:VEVENT
BEGIN:VEVENT
DTSTART;TZID=America/Chicago:20260507T120000
DTEND;TZID=America/Chicago:20260507T160000
DTSTAMP:20260423T093913
CREATED:20250623T174944Z
LAST-MODIFIED:20250623T174945Z
UID:15016583-1778155200-1778169600@www.youthlinkmn.org
SUMMARY:Kulture Klub Collaborative: 4TheKulture Podcast & Open Art Studio Time
DESCRIPTION:Each Thursday\, Kulture Klub Collaborative meets to record and produce their 4TheKulture podcast. Open Art Studio time is also available during this time. You can find the studio downstairs of Youthlink’s Youth Opportunity Center. The mission of Kulture Klub Collaborative (KKC) is to provide a safe\, consistent space for youth ages 16-24 experiencing homelessness to freely enjoy access to the arts. At KKC\, we believe that everyone is an artist. We expose\, educate\, and empower youth through quality multidisciplinary art experiences. We use art and creativity as a positive force in their lives for personal growth\, social justice\, actionable compassion\, and community improvement. Join us every week for dynamic artistic activities and healing.
URL:https://www.youthlinkmn.org/event/kulture-klub/2026-05-07/
CATEGORIES:Onsite Partners
ATTACH;FMTTYPE=image/jpeg:https://www.youthlinkmn.org/wp-content/uploads/2025/06/kulture-klub-collaborative-kkc.jpg
END:VEVENT
BEGIN:VEVENT
DTSTART;TZID=America/Chicago:20260514T120000
DTEND;TZID=America/Chicago:20260514T160000
DTSTAMP:20260423T093913
CREATED:20250623T174944Z
LAST-MODIFIED:20250623T174945Z
UID:15016584-1778760000-1778774400@www.youthlinkmn.org
SUMMARY:Kulture Klub Collaborative: 4TheKulture Podcast & Open Art Studio Time
DESCRIPTION:Each Thursday\, Kulture Klub Collaborative meets to record and produce their 4TheKulture podcast. Open Art Studio time is also available during this time. You can find the studio downstairs of Youthlink’s Youth Opportunity Center. The mission of Kulture Klub Collaborative (KKC) is to provide a safe\, consistent space for youth ages 16-24 experiencing homelessness to freely enjoy access to the arts. At KKC\, we believe that everyone is an artist. We expose\, educate\, and empower youth through quality multidisciplinary art experiences. We use art and creativity as a positive force in their lives for personal growth\, social justice\, actionable compassion\, and community improvement. Join us every week for dynamic artistic activities and healing.
URL:https://www.youthlinkmn.org/event/kulture-klub/2026-05-14/
CATEGORIES:Onsite Partners
ATTACH;FMTTYPE=image/jpeg:https://www.youthlinkmn.org/wp-content/uploads/2025/06/kulture-klub-collaborative-kkc.jpg
END:VEVENT
BEGIN:VEVENT
DTSTART;TZID=America/Chicago:20260521T120000
DTEND;TZID=America/Chicago:20260521T160000
DTSTAMP:20260423T093913
CREATED:20250623T174944Z
LAST-MODIFIED:20250623T174945Z
UID:15016585-1779364800-1779379200@www.youthlinkmn.org
SUMMARY:Kulture Klub Collaborative: 4TheKulture Podcast & Open Art Studio Time
DESCRIPTION:Each Thursday\, Kulture Klub Collaborative meets to record and produce their 4TheKulture podcast. Open Art Studio time is also available during this time. You can find the studio downstairs of Youthlink’s Youth Opportunity Center. The mission of Kulture Klub Collaborative (KKC) is to provide a safe\, consistent space for youth ages 16-24 experiencing homelessness to freely enjoy access to the arts. At KKC\, we believe that everyone is an artist. We expose\, educate\, and empower youth through quality multidisciplinary art experiences. We use art and creativity as a positive force in their lives for personal growth\, social justice\, actionable compassion\, and community improvement. Join us every week for dynamic artistic activities and healing.
URL:https://www.youthlinkmn.org/event/kulture-klub/2026-05-21/
CATEGORIES:Onsite Partners
ATTACH;FMTTYPE=image/jpeg:https://www.youthlinkmn.org/wp-content/uploads/2025/06/kulture-klub-collaborative-kkc.jpg
END:VEVENT
BEGIN:VEVENT
DTSTART;TZID=America/Chicago:20260528T120000
DTEND;TZID=America/Chicago:20260528T160000
DTSTAMP:20260423T093913
CREATED:20250623T174944Z
LAST-MODIFIED:20250623T174945Z
UID:15016586-1779969600-1779984000@www.youthlinkmn.org
SUMMARY:Kulture Klub Collaborative: 4TheKulture Podcast & Open Art Studio Time
DESCRIPTION:Each Thursday\, Kulture Klub Collaborative meets to record and produce their 4TheKulture podcast. Open Art Studio time is also available during this time. You can find the studio downstairs of Youthlink’s Youth Opportunity Center. The mission of Kulture Klub Collaborative (KKC) is to provide a safe\, consistent space for youth ages 16-24 experiencing homelessness to freely enjoy access to the arts. At KKC\, we believe that everyone is an artist. We expose\, educate\, and empower youth through quality multidisciplinary art experiences. We use art and creativity as a positive force in their lives for personal growth\, social justice\, actionable compassion\, and community improvement. Join us every week for dynamic artistic activities and healing.
URL:https://www.youthlinkmn.org/event/kulture-klub/2026-05-28/
CATEGORIES:Onsite Partners
ATTACH;FMTTYPE=image/jpeg:https://www.youthlinkmn.org/wp-content/uploads/2025/06/kulture-klub-collaborative-kkc.jpg
END:VEVENT
BEGIN:VEVENT
DTSTART;TZID=America/Chicago:20260604T120000
DTEND;TZID=America/Chicago:20260604T160000
DTSTAMP:20260423T093913
CREATED:20250623T174944Z
LAST-MODIFIED:20250623T174945Z
UID:15016587-1780574400-1780588800@www.youthlinkmn.org
SUMMARY:Kulture Klub Collaborative: 4TheKulture Podcast & Open Art Studio Time
DESCRIPTION:Each Thursday\, Kulture Klub Collaborative meets to record and produce their 4TheKulture podcast. Open Art Studio time is also available during this time. You can find the studio downstairs of Youthlink’s Youth Opportunity Center. The mission of Kulture Klub Collaborative (KKC) is to provide a safe\, consistent space for youth ages 16-24 experiencing homelessness to freely enjoy access to the arts. At KKC\, we believe that everyone is an artist. We expose\, educate\, and empower youth through quality multidisciplinary art experiences. We use art and creativity as a positive force in their lives for personal growth\, social justice\, actionable compassion\, and community improvement. Join us every week for dynamic artistic activities and healing.
URL:https://www.youthlinkmn.org/event/kulture-klub/2026-06-04/
CATEGORIES:Onsite Partners
ATTACH;FMTTYPE=image/jpeg:https://www.youthlinkmn.org/wp-content/uploads/2025/06/kulture-klub-collaborative-kkc.jpg
END:VEVENT
BEGIN:VEVENT
DTSTART;TZID=America/Chicago:20260611T120000
DTEND;TZID=America/Chicago:20260611T160000
DTSTAMP:20260423T093913
CREATED:20250623T174944Z
LAST-MODIFIED:20250623T174945Z
UID:15016588-1781179200-1781193600@www.youthlinkmn.org
SUMMARY:Kulture Klub Collaborative: 4TheKulture Podcast & Open Art Studio Time
DESCRIPTION:Each Thursday\, Kulture Klub Collaborative meets to record and produce their 4TheKulture podcast. Open Art Studio time is also available during this time. You can find the studio downstairs of Youthlink’s Youth Opportunity Center. The mission of Kulture Klub Collaborative (KKC) is to provide a safe\, consistent space for youth ages 16-24 experiencing homelessness to freely enjoy access to the arts. At KKC\, we believe that everyone is an artist. We expose\, educate\, and empower youth through quality multidisciplinary art experiences. We use art and creativity as a positive force in their lives for personal growth\, social justice\, actionable compassion\, and community improvement. Join us every week for dynamic artistic activities and healing.
URL:https://www.youthlinkmn.org/event/kulture-klub/2026-06-11/
CATEGORIES:Onsite Partners
ATTACH;FMTTYPE=image/jpeg:https://www.youthlinkmn.org/wp-content/uploads/2025/06/kulture-klub-collaborative-kkc.jpg
END:VEVENT
BEGIN:VEVENT
DTSTART;TZID=America/Chicago:20260618T120000
DTEND;TZID=America/Chicago:20260618T160000
DTSTAMP:20260423T093913
CREATED:20250623T174944Z
LAST-MODIFIED:20250623T174945Z
UID:15016589-1781784000-1781798400@www.youthlinkmn.org
SUMMARY:Kulture Klub Collaborative: 4TheKulture Podcast & Open Art Studio Time
DESCRIPTION:Each Thursday\, Kulture Klub Collaborative meets to record and produce their 4TheKulture podcast. Open Art Studio time is also available during this time. You can find the studio downstairs of Youthlink’s Youth Opportunity Center. The mission of Kulture Klub Collaborative (KKC) is to provide a safe\, consistent space for youth ages 16-24 experiencing homelessness to freely enjoy access to the arts. At KKC\, we believe that everyone is an artist. We expose\, educate\, and empower youth through quality multidisciplinary art experiences. We use art and creativity as a positive force in their lives for personal growth\, social justice\, actionable compassion\, and community improvement. Join us every week for dynamic artistic activities and healing.
URL:https://www.youthlinkmn.org/event/kulture-klub/2026-06-18/
CATEGORIES:Onsite Partners
ATTACH;FMTTYPE=image/jpeg:https://www.youthlinkmn.org/wp-content/uploads/2025/06/kulture-klub-collaborative-kkc.jpg
END:VEVENT
END:VCALENDAR